Workbook
Name OLE_LINK2: NOTAS!$B$6

Sheet EAN
B2: FONDO MUTUO PARA TODOS RENTA FIJA EN GUARANÍES
B3: ESTADO DEL ACTIVO NETO
B4: Correspondiente al 30/06/2026 comparativo al 30/06/2025
B5: En Gs.
B7: ACTIVO | C7: 46203 | D7: 45838
B8: Disponibilidades (Nota 4.1) | C8: 996854259 | D8: 636807352
B9: Cuentas por Cobrar | C9: 71185535 | D9: -
B10: Intereses Devengados | C10: 14915188 | D10: 9009634
B11: Inversiones Anexo I | C11: 49910122144 | D11: 31212211773
B12: TOTAL ACTIVO BRUTO | C12: =SUM(C8:C11) -> 50993077126 | D12: =SUM(D8:D11) -> 31858028759
B13: PASIVO
B14: Acreedores por Operaciones (Nota 4.2) | C14: 18000000 | D14: 74500000
B15: Comisiones a pagar a la administradora (Nota 4.3) | C15: 136663243 | D15: 84646230
B16: Rescates a pagar | C16: 165871422 | D16: 79084356
B17: TOTAL PASIVO | C17: =SUM(C14:C16) -> 320534665 | D17: =SUM(D14:D16) -> 238230586
B18: TOTAL ACTIVO NETO | C18: =+C12-C17 -> 50672542461 | D18: 31619798173
B19: CUOTAS PARTES EN CIRCULACIÓN | C19: 350580.16 | D19: 237331.22
B20: VALOR CUOTA PARTE AL CIERRE | C20: =+C18/C19 -> 144539.11 | D20: =+D18/D19 -> 133230.67
B22: Las 4 Notas y el Anexo I, II que acompañan son parte integrante de estos Estados Financieros

Sheet EIE
B2: =+EAN!B2 -> FONDO MUTUO PARA TODOS RENTA FIJA EN GUARANÍES
B3: ESTADO DE INGRESOS Y EGRESOS
B4: =+EAN!B4 -> Correspondiente al 30/06/2026 comparativo al 30/06/2025
B5: En Gs.
B7: INGRESO | C7: =+EAN!C7 -> 46203 | D7: =+EAN!D7 -> 45838
B8: Resultado por tenencia de inversiones (Nota 4.4) | C8: 43420793 | D8: 36772183
B9: Intereses vencimientos de cupones | C9: 2524830841 | D9: 1397782445
B10: Otros Ingresos (Nota 4.5) | C10: 33223.108 | D10: 15561
B11: TOTAL INGRESOS | C11: =SUM(C8:C10) -> 2.5682849e+09 | D11: =SUM(D8:D10) -> 1434570189
B12: EGRESOS
B13: Comisión por Administración (Nota 3.C) | C13: 761979913 | D13: 444538230
B14: Otros Egresos (Nota 4.5) | C14: 0 | D14: 108
B15: TOTAL EGRESOS | C15: =SUM(C13:C14) -> 761979913 | D15: =SUM(D13:D14) -> 444538338
B16: RESULTADO DEL EJERCICIO | C16: =+C11-C15 -> 1.8063049e+09 | D16: =+D11-D15 -> 990031851
B18: Las 4 Notas y el Anexo I, II que acompañan son parte integrante de estos Estados Financieros

Sheet EVAN
B2: =+EIE!B2 -> FONDO MUTUO PARA TODOS RENTA FIJA EN GUARANÍES
B3: ESTADO DE VARIACIÓN DEL ACTIVO NETO
B4: Correspondiente al 30/06/2026 comparativo al 30/06/2025
B5: En Gs.
B7: CUENTA | C7: APORTANTES | D7: RESULTADO | E7: TOTAL 31/12/2025
B8: SALDO AL INICIO | C8: 38964572246 | D8: 2414841287 | E8: 41379413533
B9: MOVIMIENTO DEL PERÍODO | C9: 2414841287 | D9: -2414841287 | E9: 0
B10: Suscripciones | C10: 17600766093 | E10: 17600766093
B11: Rescates | C11: -10113942109 | E11: -10113942109
B12: Resultado del período | C12: 0 | D12: 1.8063049e+09 | E12: 1.8063049e+09
B13: SALDO AL FINAL DEL PERÍODO | C13: =SUM(C8:C12) -> 48866237517 | D13: =SUM(D8:D12) -> 1.8063049e+09 | E13: TOTAL 30/06/2026
E14: =SUM(E8:E12) -> 5.0672542e+10
B16: Las 4 Notas y el Anexo I, II que acompañan son parte integrante de estos Estados Financieros

Sheet EFE
B2: =+EVAN!B2 -> FONDO MUTUO PARA TODOS RENTA FIJA EN GUARANÍES
B3: ESTADO DE FLUJO DE EFECTIVO
B4: =+EIE!B4 -> Correspondiente al 30/06/2026 comparativo al 30/06/2025
B5: En Gs.
B7: CONCEPTO | C7: =+EAN!C7 -> 46203 | D7: =+EAN!D7 -> 45838
B8: Efectivo al inicio del periodo | C8: 944582607 | D8: 532650206
B9: Causas de las variaciones del efectivo
B10: Actividades Operativas
B11: Ganancia ordinaria del período | C11: 33137 | D11: 15453
B12: Matriculación | C12: -3000000 | D12: 39200000
B13: Cambios en activos y pasivos operativos
B14: Compra de Instrumentos | C14: -26575926330 | D14: -13292439048
B15: Comisiones pagadas | C15: -738994072 | D15: -420638497
B16: Vencimiento de Instrumentos | C16: 6757538846 | D16: 3723782444
B17: Ventas de Instrumentos | C17: 12959924665 | D17: 1607309926
B18: Aumento (Disminución) en Otros Pasivos
B19: Flujo neto de efectivo generado por actividades operativas | C19: =SUM(C9:C18) -> -7600423754 | D19: =SUM(D9:D18) -> -8342769722
B21: Actividades de financiación
B22: Rescates | C22: -9948070687 | D22: -3910819629
B23: Suscripciones | C23: 17600766093 | D23: 12357746497
B24: Flujo neto de efectivo generado por (utilizado) en actividades de financiación | C24: =SUM(C22:C23) -> 7652695406 | D24: =SUM(D22:D23) -> 8446926868
B26: Saldo Final de efectivo | C26: =+C8+C19+C24 -> 996854259 | D26: =+D8+D19+D24 -> 636807352
B28: Las 4 Notas y el Anexo I, II que acompañan son parte integrante de estos Estados Financieros

Sheet NOTAS
B2: =+EFE!B2 -> FONDO MUTUO PARA TODOS RENTA FIJA EN GUARANÍES
B3: NOTAS A LOS ESTADOS FINANCIEROS
B4: 1) Información Básica del Fondo
B6: LA ADMINISTRADORA será responsable de la administración del FONDO MUTUO PARA TODOS RENTA FIJA EN GUARANÍES, que en adelante se denominará FONDO PARA TODOS, registrado en la Comisión Nacional de Valores de conformidad con la Resolución N.º 51 E/21 de fecha 20 de diciembre del 2021, el cual se regirá por el REGLAMENTO INTERNO, aprobado por Resolución 51 E/21 de fecha 20 de diciembre del 2021. El objeto del FONDO PARA TODOS será invertir en instrumentos de deuda. Está dirigido a personas físicas y jurídicas con horizonte de inversión acordes con la política de inversión del fondo. El riesgo del inversionista estará determinado por la naturaleza de los instrumentos en los que se inviertan los activos del FONDO PARA TODOS, de acuerdo con lo expuesto en la política de inversiones y diversificación de estas.
B15: 2) Información sobre la Administradora
B17: 2.1) Información General
B18: PARAGUAY FUNDS ADMINISTRADORA DE FONDOS MUTUOS S.A. ha sido constituida por Escritura Pública N.º 41, de fecha 20 de octubre de 2006, pasada ante la Esc. Karen Alice Notario Frutos, en la que constan su denominación, domicilio, duración, objeto, formas de administración y demás requisitos legales para su funcionamiento, inscripta en la Dirección General de los Registros Públicos en la Sección Personas Jurídicas y Asociaciones bajo el N.º 212, folio 2859, Serie “D”, en fecha 19 de febrero de 2007; y en el registro Público de Comercio, bajo el N.º 112, Serie “E”, folio 873 y siguientes, Sección Contratos, en fecha 19 de febrero de 2007. Posteriormente complementada por Escritura Pública N.º 3 de fecha 11 de enero de 2007, autorizada por la N. P. Karen Alice Notario Frutos, de cuyo testimonio se tomó razón en la Dirección General de los Registros Públicos, Sección Personas Jurídicas y Asociaciones, bajo el N.º 23, al folio 2872, Serie “D”, y en el Registro Público de Comercio, bajo el N.º 113, Serie “E”, al folio 886 y siguientes, Sección Contratos, ambas del 19 de febrero de 2007. Y por Escritura Pública Complementaria N.º 125, de fecha 24 de julio de 2008, pasada ante el Esc. Martín José Troche Robbiani, inscripta en la Dirección General de los Registros Públicos en la Sección Personas Jurídicas y Asociaciones bajo el N.º 355, folio 4420 y siguientes, Serie ”B”; y en el registro Público de Comercio, bajo el N.º 534, Serie “D”, folio 5488, Sección Contratos, en fecha 24/07/2008. Por Escritura Pública N.º 489 de fecha 29/07/2013 y Escritura Pública Complementaria N.º 984 de fecha 07/11/2013, pasada ante el Esc. Luis Enrique Peroni Giralt, se ha formalizado la Protocolización de las Actas de Asambleas Generales Extraordinaria de accionistas N.º 11/2012 de fecha 18/10/2012 y culminada luego del cuarto intermedio según Acta N.º 12/2012 de fecha 15/11/2012 en la que se modificó la denominación social por CADIEM Administradora de Fondos Mutuos S.A. y se modificaron sus estatutos sociales y la Asamblea General Ordinaria N.º 13/2013 de fecha 30/04/2013, la cual pasó a cuarto intermedio y prosiguió según Acta N.º 14/2013 de fecha 30/05/2013; inscriptas en la Dirección Gral. de Registros Públicos en el Registro de Personas Jurídicas y Asociaciones bajo el N.º 1399 folio 14709 y siguientes, Serie E, en fecha 27/11/2013; y en el Registro Público de Comercio, Reg. de Contratos, bajo el N.º 366, al folio 2825 y siguientes, Serie H, en fecha 27/11/2013. Por Escritura Pública N.º 1227 de fecha 28/12/2016, pasada ante el Esc. Luis Enrique Peroni Giralt, se ha formalizado la Protocolización de las Actas de Asambleas Generales Extraordinaria de accionistas N.º 17/2016 de fecha 30/03/2016 en la que se modificó la denominación social por CADIEM Administradora de Fondos Patrimoniales de Inversión S.A. y se modificaron sus estatutos sociales; inscriptas en la Dirección Gral. de Registros Públicos en el Registro de Personas Jurídicas y Asociaciones bajo el N.º 1 folio 01 y siguientes, Serie Comercial, en fecha 02/02/2017; y en el Registro Público de Comercio, Reg. de Contratos, bajo el N.º 01, al folio 1 al 20, Serie Comercial, en fecha 02/02/2017.
B42: 2.2) Entidad encargada de la Custodia
B43: Cadiem AFPISA, es la encargada de la custodia de activos del Fondo. Todos los títulos físicos son resguardados en la caja de Valores del Paraguay.
B46: 3) Criterios Contables Aplicados
B48: Los estados financieros se han preparado de acuerdo con normas contables y criterios de valuación dictados por la Superintendencia de Valores y con normas de información financiera vigentes en el Paraguay dictadas por el Consejo de Contadores Públicos del Paraguay.
B51: El período que cubre los Estados Contables es del 01 de enero al 30 de Junio de 2026 de forma comparativa con el mismo periodo del año anterior.
B53: No se incurrió en ningún cambio de procedimientos en la aplicación contable y/o estimación contable en referencia a los Estados Contables anteriores al presente.
... B65: Tipo de cambio DNIT
B66: CONCEPTO | C66: 46203 | D66: 45838
B67: Tipo de cambio comprador | C67: 6069.32 | D67: 7790.75
B68: Tipo de cambio vendedor | C68: 6092.98 | D68: 7807.41
B70: Tipo de cambio BCP
B71: CONCEPTO | C71: 46203 | D71: 45838
B72: Tipo de cambio único | C72: 6081.67 | D72: 7784.15
B74: Las partidas de activos y pasivos en moneda extranjera fueron valuadas al tipo de cambio de cierre proporcionado por la Dirección Nacional de Ingresos Tributarios (DNIT), hasta el mes de diciembre del 2024, el cual no difiere significativamente respecto del vigente en el mercado libre de cambios, y de acuerdo a la Resolución SV. SG.N° 00003/2024 se considera la cotización Referencial Mensual, publicada por el Banco Central del Paraguay.
B78: a) Posición en Moneda Extranjera:
B79: El Fondo Mutuo solo opera en moneda local, por eso no cuenta con reporte sobre Posición en Moneda Extranjera.
B81: b) Diferencia de Cambio en Moneda Extranjera:
B82: El Fondo Mutuo opera de forma exclusiva en moneda local, razón por la cual no arroja con Diferencia de Cambio en Moneda Extranjera
B85: C) Gastos Operacionales y comisión de la Sociedad Administradora:
B86: La comisión de administración que se está utilizando es de 3,3% anual IVA incluido. Esta comisión se calcula diariamente de los fondos bajo manejo y se pagan mensualmente a la administradora, generalmente el primer día hábil siguiente al cierre del mes anterior.
B90: CONCEPTO | D90: =+EAN!C7 -> 46203 | E90: =+EAN!D7 -> 45838
B91: Comisión por Administración | D91: =+EIE!C13 -> 761979913 | E91: =+EIE!D13 -> 444538230
B92: TOTAL | D92: =SUM(D91:D91) -> 761979913 | E92: =SUM(E91:E91) -> 444538230
B94: _Información Estadística
B96: MES | C96: VALOR CUOTA | D96: PATRIMONIO NETO DEL FONDO | E96: N° DE PARTICIPES
B97: 1er. TRIMESTRE
B98: Enero | C98: 139730.68 | D98: 43192376319 | E98: 5958
B99: Febrero | C99: 140614.88 | D99: 44649269763 | E99: 6093
B100: Marzo | C100: 141607.98 | D100: 46483082869 | E100: 6237
B101: 2do. TRIMESTRE
B102: Abril | C102: 142568.01 | D102: 47960442771 | E102: 6384
B103: Mayo | C103: 143573.07 | D103: 49407282624 | E103: 6490
B104: Junio | C104: 144539.11 | D104: 50672542461 | E104: 6602
...

Sheet Hoja3
A1: Suma de Val. Contable | C1: Estado
A2: Emisor | B2: Grupo | C2: ACTIVO | D2: Total general | F2: Emisor | G2: Grupo | H2: ACTIVO | I2: Total general | J2: %
A3: Alamo S.A. | B3: (en blanco) | C3: 5.0175395e+08 | D3: 5.0175395e+08 | F3: Alamo S.A. | G3: (en blanco) | H3: 5.0175395e+08 | I3: 5.0175395e+08 | J3: =I3/$I$25 -> 0.012375234
A4: Alpaca S.A. | B4: (en blanco) | C4: 6.9450418e+08 | D4: 6.9450418e+08 | F4: Alpaca S.A. | G4: (en blanco) | H4: 6.9450418e+08 | I4: 6.9450418e+08 | J4: =I4/$I$25 -> 0.017129215
A5: Biotec del Paraguay S.A. | B5: (en blanco) | C5: 2.8905709e+09 | D5: 2.8905709e+09 | F5: Biotec del Paraguay S.A. | G5: (en blanco) | H5: 2.8905709e+09 | I5: 2.8905709e+09 | J5: =I5/$I$25 -> 0.071292891
A6: Cementos ConcepciÃ³n S.A.E. | B6: Grupo Cartes Montaña | C6: 1.9452437e+09 | D6: 1.9452437e+09 | F6: Cementos ConcepciÃ³n S.A.E. | G6: Grupo Cartes Montaña | H6: 1.9452437e+09 | I6: 1.9452437e+09 | J6: =I6/$I$25 -> 0.04797739
A7: COOFY Ltda. | B7: (en blanco) | C7: 1.4856761e+08 | D7: 1.4856761e+08 | F7: COOFY Ltda. | G7: (en blanco) | H7: 1.4856761e+08 | I7: 1.4856761e+08 | J7: =I7/$I$25 -> 0.0036642638
A8: Electroban S.A.E.C.A. | B8: (en blanco) | C8: 2.4972738e+09 | D8: 2.4972738e+09 | F8: Electroban S.A.E.C.A. | G8: (en blanco) | H8: 2.4972738e+09 | I8: 2.4972738e+09 | J8: =I8/$I$25 -> 0.061592631
A9: ENERSUR S.A. | B9: (en blanco) | C9: 1.0226548e+09 | D9: 1.0226548e+09 | F9: ENERSUR S.A. | G9: (en blanco) | H9: 1.0226548e+09 | I9: 1.0226548e+09 | J9: =I9/$I$25 -> 0.025222706
A10: Estelar S.A.E. | B10: (en blanco) | C10: 3.096724e+09 | D10: 3.096724e+09 | F10: Estelar S.A.E. | G10: (en blanco) | H10: 3.096724e+09 | I10: 3.096724e+09 | J10: =I10/$I$25 -> 0.076377441
A11: Financiera FIC S.A.E.C.A. | B11: (en blanco) | C11: 1.7176529e+08 | D11: 1.7176529e+08 | F11: Financiera FIC S.A.E.C.A. | G11: (en blanco) | H11: 1.7176529e+08 | I11: 1.7176529e+08 | J11: =I11/$I$25 -> 0.0042364102
A12: Financiera Paraguayo Japonesa | B12: (en blanco) | C12: 1.7720015e+09 | D12: 1.7720015e+09 | F12: Financiera Paraguayo Japonesa | G12: (en blanco) | H12: 1.7720015e+09 | I12: 1.7720015e+09 | J12: =I12/$I$25 -> 0.043704553
A13: FrigorÃ­fico ConcepciÃ³n S.A. | B13: (en blanco) | C13: 3.3735827e+09 | D13: 3.3735827e+09 | F13: FrigorÃ­fico ConcepciÃ³n S.A. | G13: (en blanco) | H13: 3.3735827e+09 | I13: 3.3735827e+09 | J13: =I13/$I$25 -> 0.083205869
A14: Grupo Vazquez S.A.E. | B14: Grupo Vazquez S.A.E. | C14: 2.6687856e+09 | D14: 2.6687856e+09 | F14: Grupo Vazquez S.A.E. | G14: Grupo Vazquez S.A.E. | H14: 2.6687856e+09 | I14: 2.6687856e+09 | J14: =I14/$I$25 -> 0.065822791
... A24: Zeta Banco S.A.E.C.A. | B24: (en blanco) | C24: 1.7894349e+09 | D24: 1.7894349e+09 | F24: Zeta Banco S.A.E.C.A. | G24: (en blanco) | H24: 1.7894349e+09 | I24: 1.7894349e+09 | J24: =I24/$I$25 -> 0.044134531
A25: Total general | C25: 4.0545009e+10 | D25: 4.0545009e+10 | F25: Total general | H25: 4.0545009e+10 | I25: 4.0545009e+10
G30: Grupo Vazquez S.A.E. | H30: =SUMIF($G$2:$G$24,G30,$I$2:$I$24) -> 4.898371e+09 | I30: =H30/$I$25 -> 0.12081317
G31: Grupo Cartes Montaña | H31: =SUMIF($G$2:$G$24,G31,$I$2:$I$24) -> 1.9452437e+09 | I31: =H31/$I$25 -> 0.04797739

Sheet Hoja1
C2: Alpaca S.A. | D2: SOLO | E2: =+SUMIF(NOTAS!$C$163:$C$361,Hoja1!C2,NOTAS!$L$163:$L$361) -> 0 | F2: =+E2/$E$24 -> 0
C3: Automaq S.A.E.C.A. | D3: SOLO | E3: =+SUMIF(NOTAS!$C$163:$C$361,Hoja1!C3,NOTAS!$L$163:$L$361) -> 0 | F3: =+E3/$E$24 -> 0
C4: Banco Familiar S.A.E.C.A. | D4: SOLO | E4: =+SUMIF(NOTAS!$C$163:$C$361,Hoja1!C4,NOTAS!$L$163:$L$361) -> 0 | F4: =+E4/$E$24 -> 0
C5: Banco Itaú Paraguay S.A. | D5: SOLO | E5: =+SUMIF(NOTAS!$C$163:$C$361,Hoja1!C5,NOTAS!$L$163:$L$361) -> 0 | F5: =+E5/$E$24 -> 0
C6: Banco Regional S.A.E.C.A. | D6: SOLO | E6: =+SUMIF(NOTAS!$C$163:$C$361,Hoja1!C6,NOTAS!$L$163:$L$361) -> 0 | F6: =+E6/$E$24 -> 0
C7: Banco Rio S.A.E.C.A. | D7: SOLO | E7: =+SUMIF(NOTAS!$C$163:$C$361,Hoja1!C7,NOTAS!$L$163:$L$361) -> 0 | F7: =+E7/$E$24 -> 0
C8: Biotec del Paraguay S.A. | D8: SOLO | E8: =+SUMIF(NOTAS!$C$163:$C$361,Hoja1!C8,NOTAS!$L$163:$L$361) -> 0 | F8: =+E8/$E$24 -> 0
C9: Cementos Concepción S.A. | D9: GRUPO CARTES | E9: =+SUMIF(NOTAS!$C$163:$C$361,Hoja1!C9,NOTAS!$L$163:$L$361) -> 0 | F9: =+E9/$E$24 -> 0
C10: Electroban S.A.E.C.A. | D10: SOLO | E10: =+SUMIF(NOTAS!$C$163:$C$361,Hoja1!C10,NOTAS!$L$163:$L$361) -> 4.1283033e+09 | F10: =+E10/$E$24 -> 0.32905767
C11: Financiera Paraguayo | D11: SOLO | E11: =+SUMIF(NOTAS!$C$163:$C$361,Hoja1!C11,NOTAS!$L$163:$L$361) -> 0 | F11: =+E11/$E$24 -> 0
C12: Finexpar S.A.E.C.A. | D12: SOLO | E12: =+SUMIF(NOTAS!$C$163:$C$361,Hoja1!C12,NOTAS!$L$163:$L$361) -> 0 | F12: =+E12/$E$24 -> 0
C13: Frigorífico Concepción S.A. | D13: SOLO | E13: =+SUMIF(NOTAS!$C$163:$C$361,Hoja1!C13,NOTAS!$L$163:$L$361) -> 0 | F13: =+E13/$E$24 -> 0
... C23: Vision Banco S.A.E.C.A. | D23: SOLO | E23: =+SUMIF(NOTAS!$C$163:$C$361,Hoja1!C23,NOTAS!$L$163:$L$361) -> 0 | F23: =+E23/$E$24 -> 0
E24: =SUM(E2:E23) -> 1.2545835e+10
