Workbook

Sheet EAN
B2: FONDO MUTUO CRECIMIENTO RENTA FIJA EN GUARANÍES
B3: ESTADO DEL ACTIVO NETO
B4: Correspondiente al 30/06/2026 con cifras comparativas al 30/06/2025
B5: En Gs.
B7: ACTIVO | C7: 46203 | D7: 45838
B8: Disponibilidades (Nota 4.1) | C8: 19223086923 | D8: 2044319129
B9: Cuentas por Cobrar (Nota 4.2) | C9: 3604988055 | D9: 0
B10: Intereses devengados | C10: 2.4492687e+08 | D10: 250420719
B11: Inversiones Repo Anexo II | C11: 6145968670 | D11: 2042195598
B12: Inversiones | C12: 846874091705 | D12: 893062867519
B13: TOTAL ACTIVO BRUTO | C13: =SUM(C8:C12) -> 8.7609306e+11 | D13: =SUM(D8:D12) -> 897399802965
B14: PASIVO
B15: Acreedores por Operaciones (Nota 4.3) | C15: 0 | D15: 0
B16: Comisiones a pagar a la administradora (Nota 4.4) | C16: 1448599622 | D16: 1492703043
B17: Op Repo (Nota 4.7) | C17: 6399135407 | D17: 2042908788
B18: Rescates a pagar | C18: 1660924583 | D18: 950810712
B19: TOTAL PASIVO | C19: =SUM(C15:C18) -> 9508659612 | D19: =SUM(D15:D18) -> 4486422543
B20: TOTAL ACTIVO NETO | C20: =+C13-C19 -> 8.665844e+11 | D20: =+D13-D19 -> 892913380422
B21: CUOTAS PARTES EN CIRCULACIÓN | C21: =+C20/C22 -> 430989.6 | D21: =+D20/D22 -> 1848589.8
B22: VALOR CUOTA PARTE AL CIERRE | C22: 2010685.2 | D22: 483024.08
B24: Las 4 Notas y el Anexo I que acompañan son parte integrante de estos Estados Financieros

Sheet EIE
B2: FONDO MUTUO CRECIMIENTO RENTA FIJA EN GUARANÍES
B3: ESTADO DE INGRESOS Y EGRESOS
B4: =+EAN!B4 -> Correspondiente al 30/06/2026 con cifras comparativas al 30/06/2025
B5: En Gs.
B7: INGRESO | C7: =+EAN!C7 -> 46203 | D7: =+EAN!D7 -> 45838
B8: Resultado por tenencia de inversiones (Nota 4.5) | C8: 3444104252 | D8: 3088315366
B9: Intereses vencimientos de cupones | C9: 41323965573 | D9: 40252433258
B10: Otros Ingresos (Nota 4.6) | C10: 2998.9594 | D10: 551638
B11: TOTAL INGRESOS | C11: =SUM(C8:C10) -> 4.4768073e+10 | D11: =SUM(D8:D10) -> 43341300262
B12: EGRESOS
B13: Comisión por Administración (Nota 3.C) | C13: 8718003943 | D13: 8601099469
B14: Intereses Op Repo | C14: 231858724 | D14: 11842758
B15: Otros Egresos (Nota 4.6) | C15: 278 | D15: 0
B16: TOTAL EGRESOS | C16: =SUM(C13:C15) -> 8949862945 | D16: =SUM(D13:D15) -> 8.6129422e+09
B17: RESULTADO DEL EJERCICIO | C17: =+C11-C16 -> 3.581821e+10 | D17: =+D11-D16 -> 3.4728358e+10
B20: Las 4 Notas y el Anexo I que acompañan son parte integrante de estos Estados Financieros

Sheet EVAN
B2: FONDO MUTUO CRECIMIENTO RENTA FIJA EN GUARANÍES
B3: ESTADO DE VARIACIÓN DEL ACTIVO NETO
B4: Correspondiente al 30/06/2026 con cifras comparativas al 31/12/2025
B5: En Gs.
B7: CUENTA | C7: APORTANTES | D7: RESULTADO | E7: TOTAL 31/12/2025
B8: SALDO AL INICIO | C8: 792014588990 | D8: 71116219751 | E8: =+C8+D8 -> 863130808741
B9: MOVIMIENTO DEL PERÍODO | C9: 71116219751 | D9: -71116219751 | E9: 0
B10: Suscripciones | C10: 42385673304 | D10: 0 | E10: 42385673304
B11: Rescates | C11: -74750289316 | D11: 0 | E11: -74750289316
B12: Resultado del período | C12: 0 | D12: 3.581821e+10 | E12: 3.581821e+10
B13: SALDO AL FINAL DEL PERÍODO | C13: =SUM(C8:C12) -> 830766192729 | D13: =SUM(D8:D12) -> 3.581821e+10 | E13: TOTAL 30/06/2026
E14: =SUM(E8:E12) -> 8.665844e+11
B16: Las 4 Notas, y el Anexo I que acompañan son parte integrante de estos Estados Financieros

Sheet EFE
B2: FONDO MUTUO CRECIMIENTO RENTA FIJA EN GUARANÍES
B3: ESTADO DE FLUJO DE EFECTIVO
B4: =+EIE!B4 -> Correspondiente al 30/06/2026 con cifras comparativas al 30/06/2025
B5: En Gs.
B7: CONCEPTO | C7: =+EIE!C7 -> 46203 | D7: =+EIE!D7 -> 45838
B8: Efectivo al inicio del periodo | C8: 3020472962 | D8: 3469770973
B9: Causas de las variaciones del efectivo
B10: Actividades Operativas
B11: Ganancia ordinaria del período | C11: 2500 | D11: 551638
B12: Contratos en Reporto | C12: -24687873040 | D12: -17977280659
B13: Cambios en activos y pasivos operativos
B14: Compra de Instrumentos | C14: -352848375029 | D14: -425783083100
B15: Comisiones pagadas | C15: -8762040819 | D15: -8375090957
B16: Vencimiento de Instrumentos | C16: 116650288652 | D16: 64434695746
B17: Ventas de Instrumentos | C17: 317353060103 | D17: 355246682676
B18: Flujo neto de efectivo generado por actividades operativas | C18: =SUM(C9:C17) -> 47705062367 | D18: =SUM(D9:D17) -> -32453524656
B19: Actividades de financiación
B20: Rescates | C20: -73888121710 | D20: -36713700057
B21: Suscripciones | C21: 42385673304 | D21: 67741772869
B22: Flujo neto de efectivo generado por (utilizado) en actividades de financiación | C22: =+C20+C21 -> -31502448406 | D22: =+D20+D21 -> 31028072812
B24: Saldo Final de efectivo | C24: =+C8+C18+C22 -> 19223086923 | D24: =+D8+D18+D22 -> 2044319129
B26: Las 4 Notas, y el Anexo I que acompañan son parte integrante de estos Estados Financieros

Sheet NOTAS
B2: FONDO MUTUO CRECIMIENTO RENTA FIJA EN GUARANÍES
B3: NOTAS A LOS ESTADOS FINANCIEROS
B4: 1) Información Básica del Fondo
B6: LA ADMINISTRADORA será responsable de la administración del FONDO MUTUO CRECIMIENTO RENTA FIJA EN GUARANÍES, que en adelante se denominará FONDO CRECIMIENTO, registrado en la Comisión Nacional de Valores de conformidad con la Resolución N.º 17 E/18 de fecha 19 de marzo del 2018, el cual se regirá por el REGLAMENTO INTERNO, aprobado por Resolución 17 E/18 de fecha 19 de marzo del 2018. El objeto del FONDO CRECIMIENTO será invertir en instrumentos de deuda de emisores nacionales. Está dirigido a personas físicas y jurídicas con horizonte de inversión acordes con la política de inversión del fondo, cuyo interés sea invertir indirectamente en instrumentos de deuda. El riesgo del inversionista estará determinado por la naturaleza de los instrumentos en los que se inviertan los activos del FONDO, de acuerdo con lo expuesto en la política de inversiones y diversificación de estas.
B14: 2) Información sobre la Administradora
B16: 2.1) Información General
B17: PARAGUAY FUNDS ADMINISTRADORA DE FONDOS MUTUOS S.A. ha sido constituida por Escritura Pública N.º 41, de fecha 20 de octubre de 2006, pasada ante la Esc. Karen Alice Notario Frutos, en la que constan su denominación, domicilio, duración, objeto, formas de administración y demás requisitos legales para su funcionamiento, inscripta en la Dirección General de los Registros Públicos en la Sección Personas Jurídicas y Asociaciones bajo el N.º 212, folio 2859, Serie “D”, en fecha 19 de febrero de 2007; y en el registro Público de Comercio, bajo el N.º 112, Serie “E”, folio 873 y siguientes, Sección Contratos, en fecha 19 de febrero de 2007. Posteriormente complementada por Escritura Pública N.º 3 de fecha 11 de enero de 2007, autorizada por la N. P. Karen Alice Notario Frutos, de cuyo testimonio se tomó razón en la Dirección General de los Registros Públicos, Sección Personas Jurídicas y Asociaciones, bajo el N.º 23, al folio 2872, Serie “D”, y en el Registro Público de Comercio, bajo el N.º 113, Serie “E”, al folio 886 y siguientes, Sección Contratos, ambas del 19 de febrero de 2007. Y por Escritura Pública Complementaria N.º 125, de fecha 24 de julio de 2008, pasada ante el Esc. Martín José Troche Robbiani, inscripta en la Dirección General de los Registros Públicos en la Sección Personas Jurídicas y Asociaciones bajo el N.º 355, folio 4420 y siguientes, Serie ”B”; y en el registro Público de Comercio, bajo el N.º 534, Serie “D”, folio 5488, Sección Contratos, en fecha 24/07/2008. Por Escritura Pública N.º 489 de fecha 29/07/2013 y Escritura Pública Complementaria N.º 984 de fecha 07/11/2013, pasada ante el Esc. Luis Enrique Peroni Giralt, se ha formalizado la Protocolización de las Actas de Asambleas Generales Extraordinaria de accionistas N.º 11/2012 de fecha 18/10/2012 y culminada luego del cuarto intermedio según Acta N.º 12/2012 de fecha 15/11/2012 en la que se modificó la denominación social por CADIEM Administradora de Fondos Mutuos S.A. y se modificaron sus estatutos sociales y la Asamblea General Ordinaria N.º 13/2013 de fecha 30/04/2013, la cual pasó a cuarto intermedio y prosiguió según Acta N.º 14/2013 de fecha 30/05/2013; inscriptas en la Dirección Gral. de Registros Públicos en el Registro de Personas Jurídicas y Asociaciones bajo el N.º 1399 folio 14709 y siguientes, Serie E, en fecha 27/11/2013; y en el Registro Público de Comercio, Reg. de Contratos, bajo el N.º 366, al folio 2825 y siguientes, Serie H, en fecha 27/11/2013. Por Escritura Pública N.º 1227 de fecha 28/12/2016, pasada ante el Esc. Luis Enrique Peroni Giralt, se ha formalizado la Protocolización de las Actas de Asambleas Generales Extraordinaria de accionistas N.º 17/2016 de fecha 30/03/2016 en la que se modificó la denominación social por CADIEM Administradora de Fondos Patrimoniales de Inversión S.A. y se modificaron sus estatutos sociales; inscriptas en la Dirección Gral. de Registros Públicos en el Registro de Personas Jurídicas y Asociaciones bajo el N.º 1 folio 01 y siguientes, Serie Comercial, en fecha 02/02/2017; y en el Registro Público de Comercio, Reg. de Contratos, bajo el N.º 01, al folio 1 al 20, Serie Comercial, en fecha 02/02/2017.
B41: 2.2) Entidad encargada de la Custodia
B42: Cadiem AFPISA, es la encargada de la custodia de activos del Fondo. Todos los títulos físicos son resguardados en la Caja de Valores del Paraguay.
B45: 3) Criterios Contables Aplicados
B47: Los estados financieros se han preparado de acuerdo con normas contables y criterios de valuación dictados por la Superintendencia de Valores y con normas de información financiera vigentes en el Paraguay dictadas por el Consejo de Contadores Públicos del Paraguay.
B50: El período que cubre los Estados Contables es del 01 de enero al 30 de junio del 2026 de forma comparativa con el mismo periodo del año anterior.
... B58: El informe corresponde al Fondo Mutuo Crecimiento Renta Fija en Guaraníes, por ende las operaciones están realizadas exclusivamente en moneda local.
B61: CONCEPTO | C61: 46203 | D61: 45838 | E61: 46022
B62: Tipo de cambio comprador | C62: 6069.32 | D62: 7790.75 | E62: 6572.46
B63: Tipo de cambio vendedor | C63: 6092.98 | D63: 7807.41 | E63: 6585.55
B65: Tipo de cambio BCP
B66: CONCEPTO | C66: 46203 | D66: 45838 | E66: 46022
B67: Tipo de cambio único | C67: 6081.67 | D67: 7.784,15 | E67: 6575.71
B69: Las partidas de activos y pasivos en moneda extranjera fueron valuadas al tipo de cambio de cierre proporcionado por la Dirección Nacional de Ingresos Tributarios (DNIT), hasta el mes de diciembre del 2024, el cual no difiere significativamente respecto del vigente en el mercado libre de cambios, y de acuerdo a la Resolución SV. SG.N° 00003/2024 se considera la cotización Referencial Mensual, publicada por el Banco Central del Paraguay.
B73: a) Posición en Moneda Extranjera:
B74: El Fondo Mutuo solo opera en moneda local, por eso no cuenta con reporte sobre Posición en Moneda Extranjera.
B76: b) Diferencia de Cambio en Moneda Extranjera:
B77: El Fondo Mutuo opera de forma exclusiva en moneda local, razón por la cual no arroja con Diferencia de Cambio en Moneda Extranjera
B80: c) Gastos Operacionales y comisión de la Sociedad Administradora:
B81: La comisión de administración podria alcanzar hasta 2,75% anual IVA incluido. Esta comisión se calcula diariamente de los fondos bajo manejo y se pagan mensualmente a la administradora, generalmente el primer día hábil siguiente al cierre del mes anterior.
B85: CONCEPTO | D85: =+EFE!C7 -> 46203 | E85: =+EFE!D7 -> 45838
B86: Comisión por Administración | D86: =+EIE!C13 -> 8718003943 | E86: =+EIE!D13 -> 8601099469
B87: TOTAL | D87: =SUM(D86) -> 8718003943 | E87: =SUM(E86) -> 8601099469
B89: _Información Estadística
B91: MES | C91: VALOR CUOTA | D91: PATRIMONIO NETO DEL FONDO | E91: N° DE PARTICIPES
B92: 1er. TRIMESTRE
B93: Enero | C93: 1941114.7 | D93: 864459133396 | E93: 9148
B94: Febrero | C94: 1954156.9 | D94: 856071306071 | E94: 9310
B95: Marzo | C95: 1968382.7 | D95: 865811398325 | E95: 9505
B96: 2ndo. TRIMESTRE
B97: Abril | C97: 1982283.7 | D97: 8.6438803e+11 | E97: 9690
B98: Mayo | C98: 1996951 | D98: 8.6464001e+11 | E98: 9822
B99: Junio | C99: 2010685.2 | D99: 8.665844e+11 | E99: 9963
B101: 4) Composición de las Cuentas
...

Sheet Hoja1
A1: Suma de Val. Contable | C1: Estado
A2: Emisor | B2: Grupo | C2: ACTIVO | D2: REPO | E2: Total general | H2: Emisor | I2: Grupo | J2: ACTIVO | K2: REPO | L2: Total general | M2: %
A3: Alamo S.A. | B3: (en blanco) | C3: 2.2001999e+10 | E3: 2.2001999e+10 | H3: Alamo S.A. | I3: (en blanco) | J3: 2.1514224e+10 | L3: 2.1514224e+10 | M3: =L3/$L$32 -> 0.024251874
A4: Banco Continental S.A.E.C.A. | B4: (en blanco) | C4: 5.0423547e+08 | E4: 5.0423547e+08 | H4: Banco GNB Paraguay S.A. | I4: (en blanco) | K4: 1.0004414e+10 | L4: 1.0004414e+10 | M4: =L4/$L$32 -> 0.011277459
A5: Banco GNB Paraguay S.A. | B5: (en blanco) | C5: 3.036515e+10 | E5: 3.036515e+10 | H5: Banco ItaÃº Paraguay S.A. | I5: (en blanco) | J5: 98203882 | K5: 2.2438551e+10 | L5: 2.2536755e+10 | M5: =L5/$L$32 -> 0.02540452
A6: Biotec del Paraguay S.A. | B6: (en blanco) | C6: 2.2827636e+10 | E6: 2.2827636e+10 | H6: Biotec del Paraguay S.A. | I6: (en blanco) | J6: 2.0385949e+10 | L6: 2.0385949e+10 | M6: =L6/$L$32 -> 0.022980028
A7: Cementos ConcepciÃ³n S.A.E. | B7: Grupo Cartes Montaña | C7: 3.4471969e+10 | E7: 3.4471969e+10 | H7: Cementos ConcepciÃ³n S.A.E. | I7: Grupo Cartes Montaña | J7: 3.4546075e+10 | L7: 3.4546075e+10 | M7: =L7/$L$32 -> 0.038942006
A8: CIDESA | B8: (en blanco) | C8: 1.2161691e+10 | E8: 1.2161691e+10 | H8: Comfar S.A.E.C.A. | I8: (en blanco) | J8: 1.0266024e+09 | L8: 1.0266024e+09 | M8: =L8/$L$32 -> 0.0011572358
A9: Comfar S.A.E.C.A. | B9: (en blanco) | C9: 1.019676e+09 | E9: 1.019676e+09 | H9: Electroban S.A.E.C.A. | I9: (en blanco) | J9: 6.019004e+10 | L9: 6.019004e+10 | M9: =L9/$L$32 -> 0.067849125
A10: Electroban S.A.E.C.A. | B10: (en blanco) | C10: 6.4636396e+10 | E10: 6.4636396e+10 | H10: Emsa Inmobiliaria SA | I10: (en blanco) | J10: 3.0007961e+09 | L10: 3.0007961e+09 | M10: =L10/$L$32 -> 0.0033826425
A11: Emsa Inmobiliaria SA | B11: (en blanco) | C11: 1.4999949e+09 | E11: 1.4999949e+09 | H11: ENERSUR S.A. | I11: (en blanco) | J11: 6.6205948e+10 | L11: 6.6205948e+10 | M11: =L11/$L$32 -> 0.074630547
A12: ENERSUR S.A. | B12: (en blanco) | C12: 6.3380046e+10 | E12: 6.3380046e+10 | H12: Estelar S.A.E. | I12: (en blanco) | J12: 6.344206e+09 | L12: 6.344206e+09 | M12: =L12/$L$32 -> 0.0071514959
A13: Estelar S.A.E. | B13: (en blanco) | C13: 6.3417505e+09 | E13: 6.3417505e+09 | H13: Financiera FIC S.A.E.C.A. | I13: (en blanco) | J13: 4.6487479e+10 | L13: 4.6487479e+10 | M13: =L13/$L$32 -> 0.052402935
A14: Financiera FIC S.A.E.C.A. | B14: (en blanco) | C14: 2.5800301e+10 | E14: 2.5800301e+10 | H14: Financiera Paraguayo Japonesa S.A.E.C.A. | I14: (en blanco) | J14: 4.9832131e+10 | L14: 4.9832131e+10 | M14: =L14/$L$32 -> 0.056173189
A15: Financiera Paraguayo Japonesa S.A.E.C.A. | B15: (en blanco) | C15: 4.5556143e+10 | E15: 4.5556143e+10 | H15: FrigorÃ­fico ConcepciÃ³n S.A. | I15: (en blanco) | J15: 7.8644066e+10 | L15: 7.8644066e+10 | M15: =L15/$L$32 -> 0.088651395
A16: FrigorÃ­fico ConcepciÃ³n S.A. | B16: (en blanco) | C16: 7.6410894e+10 | D16: 1.5095146e+09 | E16: 7.7920408e+10 | H16: Gas Corona S.A.E.C.A. | I16: (en blanco) | J16: 9.6297638e+09 | L16: 9.6297638e+09 | M16: =L16/$L$32 -> 0.010855136
A17: Gas Corona S.A.E.C.A. | B17: (en blanco) | C17: 5.0607482e+09 | E17: 5.0607482e+09 | H17: Grupo Vazquez S.A.E. | I17: Grupo Vazquez | J17: 5.4835356e+10 | L17: 5.4835356e+10 | M17: =L17/$L$32 -> 0.061813065
A18: Grupo Vazquez S.A.E. | B18: Grupo Vazquez S.A.E. | C18: 5.0514968e+10 | E18: 5.0514968e+10 | H18: Imperial S.A.E. | I18: (en blanco) | J18: 5.0099096e+09 | L18: 5.0099096e+09 | M18: =L18/$L$32 -> 0.0056474124
A19: Imperial S.A.E. | B19: (en blanco) | C19: 6.7697252e+09 | E19: 6.7697252e+09 | H19: Index S.A.C.I. | I19: (en blanco) | J19: 3.7744899e+10 | L19: 3.7744899e+10 | M19: =L19/$L$32 -> 0.042547875
A20: Index S.A.C.I. | B20: (en blanco) | C20: 2.0033772e+10 | E20: 2.0033772e+10 | H20: ITTI S.A.E.C.A. | I20: Grupo Vazquez | J20: 2.9713004e+10 | L20: 2.9713004e+10 | M20: =L20/$L$32 -> 0.033493936
A21: ITTI S.A.E.C.A. | B21: (en blanco) | C21: 2.0575468e+10 | E21: 2.0575468e+10 | H21: Izaguirre Barrail Inversora S.A.E.C.A. | I21: (en blanco) | J21: 5.5046916e+10 | L21: 5.5046916e+10 | M21: =L21/$L$32 -> 0.062051547
A22: Izaguirre Barrail Inversora S.A.E.C.A. | B22: (en blanco) | C22: 4.7818025e+10 | E22: 4.7818025e+10 | H22: Kurosu Y Cia. S.A. | I22: (en blanco) | J22: 3.0842669e+09 | L22: 3.0842669e+09 | M22: =L22/$L$32 -> 0.0034767349
A23: Kurosu Y Cia. S.A. | B23: (en blanco) | C23: 3.0834676e+09 | E23: 3.0834676e+09 | H23: Quimisur S.A.E.C.A. | I23: (en blanco) | J23: 7.1765251e+09 | L23: 7.1765251e+09 | M23: =L23/$L$32 -> 0.0080897262
A24: Libreria y Papeleria NOVA S.A. | B24: (en blanco) | C24: 1.6657949e+09 | E24: 1.6657949e+09 | H24: S.A.C.I. H. Petersen | I24: (en blanco) | J24: 3.9358047e+10 | L24: 3.9358047e+10 | M24: =L24/$L$32 -> 0.044366294
A25: NÃºcleo S.A. | B25: (en blanco) | C25: 4.6350722e+09 | E25: 4.6350722e+09 | H25: Sersa S.A.E.C.A. | I25: (en blanco) | J25: 2.7422796e+10 | L25: 2.7422796e+10 | M25: =L25/$L$32 -> 0.030912302
A26: Quimisur S.A.E.C.A. | B26: (en blanco) | C26: 6.1502637e+09 | E26: 6.1502637e+09 | H26: Solar Banco S.A.E. | I26: (en blanco) | J26: 6.6295239e+08 | L26: 6.6295239e+08 | M26: =L26/$L$32 -> 0.000747312
A27: S.A.C.I. H. Petersen | B27: (en blanco) | C27: 3.93481e+10 | E27: 3.93481e+10 | H27: Sudameris Bank S.A.E.C.A. | I27: (en blanco) | J27: 3.0690406e+08 | L27: 3.0690406e+08 | M27: =L27/$L$32 -> 0.00034595711
A28: Sersa S.A.E.C.A. | B28: (en blanco) | C28: 2.7707847e+10 | E28: 2.7707847e+10 | H28: Telecel S.A.E. | I28: (en blanco) | J28: 4.2791218e+10 | L28: 4.2791218e+10 | M28: =L28/$L$32 -> 0.04823633
A29: Sudameris Bank S.A.E.C.A. | B29: (en blanco) | C29: 2.0253383e+09 | E29: 2.0253383e+09 | H29: Tu Financiera S.A.E.C.A. | I29: (en blanco) | J29: 3.6717957e+10 | L29: 3.6717957e+10 | M29: =L29/$L$32 -> 0.041390257
A30: Telecel S.A.E. | B30: (en blanco) | C30: 8.1903538e+10 | D30: 4.6364541e+09 | E30: 8.6539992e+10 | H30: UENO BANK S.A. | I30: Grupo Vazquez | J30: 3.7840383e+10 | L30: 3.7840383e+10 | M30: =L30/$L$32 -> 0.04265551
A31: Tu Financiera S.A.E.C.A. | B31: (en blanco) | C31: 2.7440844e+10 | E31: 2.7440844e+10 | H31: Zeta Banco S.A.E.C.A. | I31: (en blanco) | J31: 7.9056359e+10 | L31: 7.9056359e+10 | M31: =L31/$L$32 -> 0.089116152
A32: UENO BANK S.A. | B32: Grupo Vazquez S.A.E. | C32: 1.272715e+10 | E32: 1.272715e+10 | H32: Total general | J32: 8.5467298e+11 | K32: 3.2442965e+10 | L32: 8.8711594e+11 | M32: =L32/$L$32 -> 1
A33: Zeta Banco S.A.E.C.A. | B33: (en blanco) | C33: 8.243609e+10 | E33: 8.243609e+10
A34: Total general | C34: 8.4687409e+11 | D34: 6.1459687e+09 | E34: 8.5302006e+11
I36: Grupo Cartes Montaña | J36: =SUMIF($I$2:$I$31,I36,$L$2:$L$31) -> 3.4546075e+10 | K36: =J36/$L$32 -> 0.038942006
I37: Grupo Vazquez | J37: =SUMIF($I$2:$I$31,I37,$L$2:$L$31) -> 1.2238874e+11 | K37: =J37/$L$32 -> 0.13796251
